BEGIN:VCALENDAR
VERSION:2.0
PRODID:-//Model A Ford Club of America - ECPv6.15.20//NONSGML v1.0//EN
CALSCALE:GREGORIAN
METHOD:PUBLISH
X-ORIGINAL-URL:https://mafca.com
X-WR-CALDESC:Events for Model A Ford Club of America
REFRESH-INTERVAL;VALUE=DURATION:PT1H
X-Robots-Tag:noindex
X-PUBLISHED-TTL:PT1H
BEGIN:VTIMEZONE
TZID:America/Los_Angeles
BEGIN:DAYLIGHT
TZOFFSETFROM:-0800
TZOFFSETTO:-0700
TZNAME:PDT
DTSTART:20250309T100000
END:DAYLIGHT
BEGIN:STANDARD
TZOFFSETFROM:-0700
TZOFFSETTO:-0800
TZNAME:PST
DTSTART:20251102T090000
END:STANDARD
BEGIN:DAYLIGHT
TZOFFSETFROM:-0800
TZOFFSETTO:-0700
TZNAME:PDT
DTSTART:20260308T100000
END:DAYLIGHT
BEGIN:STANDARD
TZOFFSETFROM:-0700
TZOFFSETTO:-0800
TZNAME:PST
DTSTART:20261101T090000
END:STANDARD
BEGIN:DAYLIGHT
TZOFFSETFROM:-0800
TZOFFSETTO:-0700
TZNAME:PDT
DTSTART:20270314T100000
END:DAYLIGHT
BEGIN:STANDARD
TZOFFSETFROM:-0700
TZOFFSETTO:-0800
TZNAME:PST
DTSTART:20271107T090000
END:STANDARD
END:VTIMEZONE
BEGIN:VEVENT
DTSTART;TZID=America/Los_Angeles:20260606T083000
DTEND;TZID=America/Los_Angeles:20260606T150000
DTSTAMP:20260420T054743
CREATED:20260117T225425Z
LAST-MODIFIED:20260205T135730Z
UID:10000225-1780734600-1780758000@mafca.com
SUMMARY:June 2026 MAFCA Board Meeting
DESCRIPTION:Agenda TBD \nHeld at National Convention in Pendleton\, OR
URL:https://mafca.com/event/june-2026-mafca-board-meeting/
CATEGORIES:MAFCA Board of Directors
END:VEVENT
BEGIN:VEVENT
DTSTART;TZID=America/Los_Angeles:20260912T083000
DTEND;TZID=America/Los_Angeles:20260912T150000
DTSTAMP:20260420T054743
CREATED:20260117T225724Z
LAST-MODIFIED:20260205T135608Z
UID:10000226-1789201800-1789225200@mafca.com
SUMMARY:September 2026 MAFCA Board Meeting
DESCRIPTION:Agenda TBD
URL:https://mafca.com/event/september-2026-mafca-board-meeting/
CATEGORIES:MAFCA Board of Directors
LOCATION:https://mafca.com/event/september-2026-mafca-board-meeting/
END:VEVENT
BEGIN:VEVENT
DTSTART;TZID=America/Los_Angeles:20261211T080000
DTEND;TZID=America/Los_Angeles:20261211T150000
DTSTAMP:20260420T054743
CREATED:20260117T225939Z
LAST-MODIFIED:20260206T113721Z
UID:10000227-1796976000-1797001200@mafca.com
SUMMARY:December 2026 MAFCA Board Meeting
DESCRIPTION:Agenda TBD \nHeld at NAB in Cincinnati\, OH
URL:https://mafca.com/event/december-2026-mafca-board-meeting/
CATEGORIES:MAFCA Board of Directors,MAFCA Events,National Awards Banquet
END:VEVENT
END:VCALENDAR